BEGIN:VCALENDAR
VERSION:2.0
PRODID:-//Angrad - ECPv6.15.14//NONSGML v1.0//EN
CALSCALE:GREGORIAN
METHOD:PUBLISH
X-WR-CALNAME:Angrad
X-ORIGINAL-URL:https://angrad.org.br
X-WR-CALDESC:Eventos para Angrad
REFRESH-INTERVAL;VALUE=DURATION:PT1H
X-Robots-Tag:noindex
X-PUBLISHED-TTL:PT1H
BEGIN:VTIMEZONE
TZID:America/Sao_Paulo
BEGIN:STANDARD
TZOFFSETFROM:-0300
TZOFFSETTO:-0300
TZNAME:-03
DTSTART:20230101T000000
END:STANDARD
END:VTIMEZONE
BEGIN:VEVENT
DTSTART;TZID=America/Sao_Paulo:20240831T090000
DTEND;TZID=America/Sao_Paulo:20240831T110000
DTSTAMP:20260424T011600
CREATED:20240809T195045Z
LAST-MODIFIED:20240809T195045Z
UID:5848-1725094800-1725102000@angrad.org.br
SUMMARY:Workshop: Pesquisa Histórica em Administração - Os Desafios das Fontes Orais
DESCRIPTION:É com grande prazer que anunciamos o próximo encontro da 5° temporada do “Café entre Amigos”\, promovido pela Associação Nacional dos Cursos de Graduação em Administração (ANGRAD). \nEste evento online e gratuito é direcionado a coordenadores\, líderes de tema\, pareceristas\, professores e estudantes de Graduação e Pós-Graduação em Administração. \nData: 31 de agosto de 2024 (sábado) \nHorário: 9h \nTema: “Pesquisa Histórica em Administração: os desafios das fontes orais” \nPalestrante: Alessandra Costa (PUC IAG) \nNão perca esta oportunidade única de participar de uma discussão enriquecedora e de ampliar seus conhecimentos e sua rede de contatos na área de Administração. \nGaranta sua participação neste evento inspirador e receba um certificado de participação ao final do encontro. \nContamos com sua presença para tornar este segundo encontro do Café entre Amigos um sucesso! \n 
URL:https://angrad.org.br/evento/workshop-pesquisa-historica-em-administracao-os-desafios-das-fontes-orais/
END:VEVENT
END:VCALENDAR