BEGIN:VCALENDAR
VERSION:2.0
PRODID:-//Angrad - ECPv6.15.14//NONSGML v1.0//EN
CALSCALE:GREGORIAN
METHOD:PUBLISH
X-WR-CALNAME:Angrad
X-ORIGINAL-URL:https://angrad.org.br
X-WR-CALDESC:Eventos para Angrad
REFRESH-INTERVAL;VALUE=DURATION:PT1H
X-Robots-Tag:noindex
X-PUBLISHED-TTL:PT1H
BEGIN:VTIMEZONE
TZID:America/Sao_Paulo
BEGIN:STANDARD
TZOFFSETFROM:-0300
TZOFFSETTO:-0300
TZNAME:-03
DTSTART:20230101T000000
END:STANDARD
END:VTIMEZONE
BEGIN:VEVENT
DTSTART;TZID=America/Sao_Paulo:20240924T080000
DTEND;TZID=America/Sao_Paulo:20240925T170000
DTSTAMP:20260424T000454
CREATED:20240809T200251Z
LAST-MODIFIED:20240809T200251Z
UID:5851-1727164800-1727283600@angrad.org.br
SUMMARY:Participe do ENCOAD 2024 - Inscrições Abertas!
DESCRIPTION:É com grande satisfação que convidamos todos os associados da ANGRAD a participar do ENCOAD 2024\, um evento de destaque no campo da Administração\, promovido pelo CRA-SP\, que este ano aborda o tema “O Impacto da Administração no ESG”. \nDetalhes do Evento: \n\nData: 24 e 25 de setembro de 2024\nFormato: Online\, gratuito e com emissão de certificado\nInscrições: encoad.com.br\n\nO ENCOAD 2024 contará com mais de 18 horas de programação ao vivo\, incluindo palestras\, entrevistas e painéis com alguns dos nomes mais relevantes do ecossistema de negócios do país. Este é um excelente momento para ampliar conhecimentos\, trocar experiências e ficar por dentro das melhores práticas de ESG na administração. \nPor que Participar? \n\nAcesso a Conteúdo de Qualidade: Participação de especialistas renomados.\nNetworking: Interação com profissionais da área de Administração e Gestão.\nCertificado: Receba um certificado de participação ao final do evento.\n\nA ANGRAD\, como apoiadora institucional do ENCOAD 2024\, incentiva todos os seus associados a aproveitarem esta oportunidade única de aprendizado e desenvolvimento profissional. \nPara realizar sua inscrição e obter mais informações\, acesse encoad.com.br. \n 
URL:https://angrad.org.br/evento/participe-do-encoad-2024-inscricoes-abertas/
END:VEVENT
END:VCALENDAR