BEGIN:VCALENDAR
VERSION:2.0
PRODID:-//Angrad - ECPv6.15.14//NONSGML v1.0//EN
CALSCALE:GREGORIAN
METHOD:PUBLISH
X-ORIGINAL-URL:https://angrad.org.br
X-WR-CALDESC:Eventos para Angrad
REFRESH-INTERVAL;VALUE=DURATION:PT1H
X-Robots-Tag:noindex
X-PUBLISHED-TTL:PT1H
BEGIN:VTIMEZONE
TZID:America/Sao_Paulo
BEGIN:STANDARD
TZOFFSETFROM:-0300
TZOFFSETTO:-0300
TZNAME:-03
DTSTART:20240101T000000
END:STANDARD
END:VTIMEZONE
BEGIN:VEVENT
DTSTART;TZID=America/Sao_Paulo:20250426T090000
DTEND;TZID=America/Sao_Paulo:20250426T110000
DTSTAMP:20260423T151439
CREATED:20250416T180507Z
LAST-MODIFIED:20250416T180507Z
UID:15705-1745658000-1745665200@angrad.org.br
SUMMARY:2ª Atividade da 6ª Temporada do Café entre Amigos
DESCRIPTION:Workshop Online e Gratuito \nA ANGRAD convida toda a comunidade acadêmica e profissional da Administração para participar da segunda atividade da 6ª temporada do Café entre Amigos\, que será realizada no dia 26 de abril de 2025\, das 9h às 11h\, em formato online e gratuito. \nNesta edição\, o tema central será: \nTransformando Dados em Inteligência com IA: Potencializando a Tomada de Decisão \nO workshop abordará o impacto da inteligência artificial na análise de dados e na tomada de decisão\, destacando ferramentas\, estratégias e aplicações práticas que tornam o uso de dados mais eficiente\, preciso e estratégico. \nPalestrante convidado:Prof. Ricardo Limongi (Universidade Federal de Uberlândia – UFU) \nPrincipais tópicos: \n\nAutomatização da análise de dados com IA generativa\nTransformação de dados em informações acionáveis\nAplicações práticas na gestão e na tomada de decisão organizacional\n\nData: 26 de abril de 2025Horário: 9h às 11h (horário de Brasília)Formato: Online e gratuitoCertificação: Haverá emissão de certificado aos participantes \n\nAcesse o Hotsite\nTodas as informações sobre a programação\, inscrições e certificado estão disponíveis no hotsite oficial do evento: doity.com.br/cea-2025  \nParticipe e acompanhe essa jornada de aprendizado e inovação com a ANGRAD. \n  \n  \n \n 
URL:https://angrad.org.br/evento/2a-atividade-da-6a-temporada-do-cafe-entre-amigos/
LOCATION:Virtual
END:VEVENT
END:VCALENDAR