BEGIN:VCALENDAR
VERSION:2.0
PRODID:-//Angrad - ECPv6.15.14//NONSGML v1.0//EN
CALSCALE:GREGORIAN
METHOD:PUBLISH
X-WR-CALNAME:Angrad
X-ORIGINAL-URL:https://angrad.org.br
X-WR-CALDESC:Eventos para Angrad
REFRESH-INTERVAL;VALUE=DURATION:PT1H
X-Robots-Tag:noindex
X-PUBLISHED-TTL:PT1H
BEGIN:VTIMEZONE
TZID:America/Sao_Paulo
BEGIN:STANDARD
TZOFFSETFROM:-0300
TZOFFSETTO:-0300
TZNAME:-03
DTSTART:20240101T000000
END:STANDARD
END:VTIMEZONE
BEGIN:VEVENT
DTSTART;TZID=America/Sao_Paulo:20250531T090000
DTEND;TZID=America/Sao_Paulo:20250531T110000
DTSTAMP:20260423T133926
CREATED:20250528T161914Z
LAST-MODIFIED:20250528T162437Z
UID:15805-1748682000-1748689200@angrad.org.br
SUMMARY:Café entre Amigos – 6ª Temporada | 3ª Atividade
DESCRIPTION:A ANGRAD tem o prazer de convidá-lo(a) para a terceira atividade da 6ª temporada do Café entre Amigos\, iniciativa dedicada à promoção de reflexões qualificadas sobre temas centrais à formação acadêmica e à produção científica em Administração. \nNeste encontro\, será discutido um tema fundamental para pesquisadores em início de trajetória que desejam alinhar propósito\, relevância e rigor científico desde os primeiros passos. \n🎯 Tema do Workshop\nDesign de Pesquisa: Decisões Iniciais que Definem Grandes Contribuições Científicas \n📌 Tópicos em destaque:\n\n\nDefinição de problemas de pesquisa a partir de interesses acadêmicos \n\n\nEstratégias eficazes para a revisão da literatura \n\n\nPlanejamento da trajetória científica com foco em impacto e propósito \n\n\n📅 Data: Sábado\, 31 de maio de 2025\n⏰ Horário: Das 9h às 11h (horário de Brasília)\n💻 Formato: Online\, com emissão de certificado aos participantes\n💲 Investimento: Participação gratuita\n👨‍🏫 Palestrante: Prof. Danilo de Melo Costa (SKEMA Business School & Universidade FUMEC)\n🎙 Moderação: Prof. Ivan Akio Soida (ESPM)\n					\n									Inscreva-se
URL:https://angrad.org.br/evento/cafe-entre-amigos-6a-temporada-3a-atividade/
LOCATION:Virtual
END:VEVENT
END:VCALENDAR