BEGIN:VCALENDAR
VERSION:2.0
PRODID:-//Angrad - ECPv6.15.14//NONSGML v1.0//EN
CALSCALE:GREGORIAN
METHOD:PUBLISH
X-ORIGINAL-URL:https://angrad.org.br
X-WR-CALDESC:Eventos para Angrad
REFRESH-INTERVAL;VALUE=DURATION:PT1H
X-Robots-Tag:noindex
X-PUBLISHED-TTL:PT1H
BEGIN:VTIMEZONE
TZID:America/Sao_Paulo
BEGIN:STANDARD
TZOFFSETFROM:-0300
TZOFFSETTO:-0300
TZNAME:-03
DTSTART:20240101T000000
END:STANDARD
END:VTIMEZONE
BEGIN:VEVENT
DTSTART;TZID=America/Sao_Paulo:20250628T090000
DTEND;TZID=America/Sao_Paulo:20250628T110000
DTSTAMP:20260423T122101
CREATED:20250605T212640Z
LAST-MODIFIED:20250605T212640Z
UID:15835-1751101200-1751108400@angrad.org.br
SUMMARY:4º Workshop Café Entre Amigos 2025
DESCRIPTION:A ANGRAD convida para a quarta atividade da 6ª temporada do Café Entre Amigos\, com o tema “Criação e Atualização do Currículo na Plataforma Lattes”. O encontro será um workshop prático e interativo\, voltado à qualificação dos participantes no uso da plataforma Lattes\, considerada a principal base de dados curricular da comunidade científica brasileira. \nA atividade é direcionada a professores\, coordenadores\, pesquisadores e estudantes interessados em estruturar\, revisar ou ampliar seu currículo acadêmico com maior consistência\, visibilidade e impacto. \n\n🗓️ Detalhes da Atividade\n\n\nData: 28 de junho de 2025 (sábado) \n\n\nHorário: das 9h às 11h (horário de Brasília) \n\n\nFormato: Online (via Zoom) \n\n\nCertificação: Emissão de certificado digital de participação \n\n\nValor: Gratuito \n\n\nPúblico-alvo: Docentes\, coordenadores\, pesquisadores\, estudantes e demais interessados \n\n\n\n🎯 Objetivo\nCapacitar os participantes para o uso eficiente da Plataforma Lattes\, abordando desde a criação do currículo até sua atualização contínua\, com foco em: \n\n\nReconhecimento da importância institucional do Currículo Lattes; \n\n\nPreenchimento adequado e completo das informações profissionais e acadêmicas; \n\n\nAplicação de boas práticas e cuidados na manutenção do currículo; \n\n\nAumento da visibilidade de publicações\, projetos e experiências na comunidade acadêmica. \n\n\n\n📚 Conteúdo Programático\n\n\nPanorama do Currículo Lattes: histórico\, estrutura e finalidades; \n\n\nCriação do currículo: orientações para o cadastro e preenchimento das informações iniciais; \n\n\nAtualização periódica: estratégias para organização e registro contínuo das atividades; \n\n\nBoas práticas e erros comuns: dicas para melhorar a clareza e a consistência dos dados; \n\n\nEspaço interativo: sessão para esclarecimento de dúvidas e situações específicas dos participantes. \n\n\n\n👩‍🏫 Facilitadora\nRenata Luiza de Castilho RossoniDoutora em Administração pela ESPM\, mestra em Propriedade Intelectual e Transferência de Tecnologia para Inovação (UFMT)\, com especializações em Controladoria\, Finanças e Metodologia do Ensino Superior. Possui mais de 15 anos de experiência docente em instituições públicas e privadas\, atuando nas áreas de inovação\, ética\, estratégia\, sustentabilidade e metodologia de pesquisa. É integrante do Comitê de Ética em Pesquisa da ESPM\, autora de publicações nacionais e internacionais\, e vencedora de prêmios acadêmicos de destaque. \n\n✅ Inscrições\nAs inscrições são gratuitas e já estão disponíveis. Os inscritos receberão por e-mail o link de acesso à sala virtual. Todos os participantes terão direito à emissão de certificado. \n🔗 Inscreva-se: https://doity.com.br/cea-2025📩 Contato para dúvidas: angrad@angrad.org.br
URL:https://angrad.org.br/evento/cafe-entre-amigos-curriculo-lattes-2025/
LOCATION:Virtual
END:VEVENT
END:VCALENDAR