BEGIN:VCALENDAR
VERSION:2.0
PRODID:-//Angrad - ECPv6.15.14//NONSGML v1.0//EN
CALSCALE:GREGORIAN
METHOD:PUBLISH
X-ORIGINAL-URL:https://angrad.org.br
X-WR-CALDESC:Eventos para Angrad
REFRESH-INTERVAL;VALUE=DURATION:PT1H
X-Robots-Tag:noindex
X-PUBLISHED-TTL:PT1H
BEGIN:VTIMEZONE
TZID:America/Sao_Paulo
BEGIN:STANDARD
TZOFFSETFROM:-0300
TZOFFSETTO:-0300
TZNAME:-03
DTSTART:20230101T000000
END:STANDARD
END:VTIMEZONE
BEGIN:VEVENT
DTSTART;VALUE=DATE:20241016
DTEND;VALUE=DATE:20241020
DTSTAMP:20260424T035951
CREATED:20240716T213214Z
LAST-MODIFIED:20240716T213633Z
UID:5735-1729036800-1729382399@angrad.org.br
SUMMARY:35º ENANGRAD
DESCRIPTION:A 35ª Edição do Encontro Nacional dos Cursos de Graduação em Administração (ENANGRAD) será realizada entre os dias 16 e 19 de outubro de 2024\, na Pontifícia Universidade Católica de Campinas. Este ano\, o evento abordará um tema de extrema relevância e atualidade: “Transformações Disruptivas”. \nO ENANGRAD se posiciona como um fórum essencial para discussões sobre as mudanças radicais que estão redefinindo os paradigmas nos negócios\, na educação e na sociedade\, com um foco especial no contexto brasileiro. A escolha deste tema reflete nossa dedicação em explorar as inovações que estão transformando o campo da Administração e preparar profissionais e acadêmicos para os desafios e oportunidades emergentes. \nA programação do evento\, que incluirá sessões científicas híbridas\, visa oferecer uma plataforma de diálogo e colaboração acessível a todos os participantes\, independentemente de sua localização. Esta abordagem é particularmente pertinente ao tema das transformações disruptivas\, demonstrando a aplicação prática das tecnologias digitais no ensino e na prática administrativa. \nO período para submissão de artigos é de 7 de maio a 11 de agosto de 2024. Convidamos acadêmicos\, profissionais\, estudantes e todos os interessados na área de Administração a se juntarem a nós para este evento significativo. Fique atento às atualizações e prepare-se para participar de discussões enriquecedoras que irão moldar o futuro da Administração no Brasil. \nConheça as 13 áreas temáticas do 35ª ENANGRAD. \nPara realizar sua submissão\, clique aqui.
URL:https://angrad.org.br/evento/35o-enangrad/
LOCATION:Pontifícia Universidade Católica de Campinas\, Rua Professor Doutor Euryclides de Jesus Zerbini\, Campinas\, São Paulo\, 13087-571\, Brasil
END:VEVENT
END:VCALENDAR